BEGIN:VCALENDAR
VERSION:2.0
PRODID:-//Maureen Pollard MSW - ECPv6.0.6.2//NONSGML v1.0//EN
CALSCALE:GREGORIAN
METHOD:PUBLISH
X-ORIGINAL-URL:https://maureenpollardassociates.com/blog
X-WR-CALDESC:Events for Maureen Pollard MSW
REFRESH-INTERVAL;VALUE=DURATION:PT1H
X-Robots-Tag:noindex
X-PUBLISHED-TTL:PT1H
BEGIN:VTIMEZONE
TZID:America/Toronto
BEGIN:DAYLIGHT
TZOFFSETFROM:-0500
TZOFFSETTO:-0400
TZNAME:EDT
DTSTART:20260308T070000
END:DAYLIGHT
BEGIN:STANDARD
TZOFFSETFROM:-0400
TZOFFSETTO:-0500
TZNAME:EST
DTSTART:20261101T060000
END:STANDARD
END:VTIMEZONE
BEGIN:VEVENT
DTSTART;TZID=America/Toronto:20260402T183000
DTEND;TZID=America/Toronto:20260402T203000
DTSTAMP:20260421T092654
CREATED:20260209T024105Z
LAST-MODIFIED:20260325T053053Z
UID:4474-1775154600-1775161800@maureenpollardassociates.com
SUMMARY:Grief Support Group for Survivors of Suicide Loss
DESCRIPTION:Join us for our FREE grief support group for survivors of suicide loss.\n\nDates: Thursdays\, April 2\, 9\, 16\, 23\, 29 & May 7\nTime: 6:30 pm – 8:30 pm\n\nRegistration is required. Please contact us for more information.\n 
URL:https://maureenpollardassociates.com/blog/event/grief-support-group-april-2026/
END:VEVENT
END:VCALENDAR